BEGIN:VCALENDAR
VERSION:2.0
PRODID:Events Booking
BEGIN:VEVENT
UID:69ea779aeb191
SUMMARY:Handgun Proficiency: Jun 10-11\, 2026 | Murray
DESCRIPTION:6 hours — An introduction to drawing from the holster\, drawi
 ng from concealment\, shooting while moving\, and more.
 This course intr
 oduces students to important intermediate-level skills such as drawing fro
 m the holster and shooting while moving. This class enhances and builds up
 on fundamental skills taught in Beginner Handgun and adds new variations t
 o help you gain more familiarity and confidence with your firearm. After r
 eviewing safety and marksmanship fundamentals\, this class will introduce 
 more complex drills and scenarios\, including drawing from the holster and
  concealment\, shooting while moving\, and an introduction to shooting fro
 m behind barricades.
 
 Students will become more proficient\, smooth\, 
 and confident with their marksmanship and gun handling skills\, which will
  take them to the intermediate level and prepare them for Defensive Handgu
 n and the advanced courses beyond.
LOCATION:6651 S State St\, Midvale\, UT 84047
DTSTART:20260610T170000Z
DTEND:20260611T200000Z
DTSTAMP:20260111T174330Z
ORGANIZER;CN=Nielsen Training and Consulting (NTAC):MAILTO:info@nielsentrai
 ning.com
GEO:40.629319;-111.888277
X-APPLE-STRUCTURED-LOCATION;VALUE=URI;X-ADDRESS=6651 S State St\, Midvale\,
  UT 84047;X-APPLE-RADIUS=72;X-TITLE=Tactical Penguin\, Murray:40.629319;-1
 11.888277
END:VEVENT
END:VCALENDAR