BEGIN:VCALENDAR
VERSION:2.0
PRODID:Events Booking
BEGIN:VEVENT
UID:69ea632ebd5c2
SUMMARY:Move and Shoot (Skills Maintenance): Apr 29\, 2026 | Layton
DESCRIPTION:2 hours — Get off the X! Learn to effectively shoot and hit y
 our target while you are moving.
 Shooting and moving is a key part of tr
 aining and being prepared. If it is not practiced on a regular basis those
  skills will be lost. We developed this course to assist professionals and
  CCW holders to maintain their skills. Working entirely from concealment\,
  movement will be introduced into your training while still working on the
  essential deployment and accuracy skills necessary to be remain proficien
 t with your everyday carry gear.
LOCATION:1995 Main St\, Layton\, UT 84041
DTSTART:20260429T170000Z
DTEND:20260429T190000Z
DTSTAMP:20260106T000759Z
ORGANIZER;CN=Nielsen Training and Consulting (NTAC):MAILTO:info@nielsentrai
 ning.com
GEO:41.088944;-112.000667
X-APPLE-STRUCTURED-LOCATION;VALUE=URI;X-ADDRESS=1995 Main St\, Layton\, UT 
 84041;X-APPLE-RADIUS=72;X-TITLE=Tactical Penguin\, Layton:41.088944;-112.0
 00667
END:VEVENT
END:VCALENDAR