BEGIN:VCALENDAR
VERSION:2.0
PRODID:Events Booking
BEGIN:VEVENT
UID:69ea63019a18d
SUMMARY:Move and Shoot (Skills Maintenance): Jun 24\, 2026 | Layton
DESCRIPTION:2.5 hours — Get off the X! Learn to effectively shoot and hit
  your target while you are moving.
 Shooting and moving is a key part of 
 training and being prepared. If it is not practiced on a regular basis tho
 se skills will be lost. We developed this course to assist professionals a
 nd CCW holders to maintain their skills. Working entirely from concealment
 \, movement will be introduced into your training while still working on t
 he essential deployment and accuracy skills necessary to be remain profici
 ent with your everyday carry gear.
LOCATION:1995 Main St\, Layton\, UT 84041
DTSTART:20260624T180000Z
DTEND:20260624T203000Z
DTSTAMP:20260111T173031Z
ORGANIZER;CN=Nielsen Training and Consulting (NTAC):MAILTO:info@nielsentrai
 ning.com
GEO:41.088944;-112.000667
X-APPLE-STRUCTURED-LOCATION;VALUE=URI;X-ADDRESS=1995 Main St\, Layton\, UT 
 84041;X-APPLE-RADIUS=72;X-TITLE=Tactical Penguin\, Layton:41.088944;-112.0
 00667
END:VEVENT
END:VCALENDAR