BEGIN:VCALENDAR
VERSION:2.0
PRODID:Events Booking
BEGIN:VEVENT
UID:69ea638ea46d9
SUMMARY:Natural Point of Aim and Retention Fire (Skills Maintenance): Aug 2
 6\, 2026 | Layton
DESCRIPTION:2.5 hours — How to safely and effectively fire your weapon fr
 om retention when you don't have time or space to utilize the sights.
 Th
 is skill builder class will help you to focus on developing and improving 
 your Natural Point of Aim (NPA and retention fire skills by utilizing dril
 ls that specifically require the use of multiple shooting positions. Natur
 al point of aim and retention fire are two defensive handgun techniques th
 at are often overlooked or even difficult to practice in traditional range
  settings.
LOCATION:1995 Main St\, Layton\, UT 84041
DTSTART:20260826T190000Z
DTEND:20260826T210000Z
DTSTAMP:20260418T160233Z
ORGANIZER;CN=Nielsen Training and Consulting (NTAC):MAILTO:info@nielsentrai
 ning.com
GEO:41.088944;-112.000667
X-APPLE-STRUCTURED-LOCATION;VALUE=URI;X-ADDRESS=1995 Main St\, Layton\, UT 
 84041;X-APPLE-RADIUS=72;X-TITLE=Tactical Penguin\, Layton:41.088944;-112.0
 00667
END:VEVENT
END:VCALENDAR