BEGIN:VCALENDAR
VERSION:2.0
PRODID:Events Booking
BEGIN:VEVENT
UID:69ea2e3ff15be
SUMMARY:Beginner Rifle: Jun 24-25\, 2026 | Orem TP
DESCRIPTION:6 hours — Designed to establish fundamental techniques: how m
 odern sporting rifles or carbines function\, safe handling\, loading and u
 nloading\, how to hold your rifle\, proper body position and stance\, how 
 to set a zero using various rifle sights\, achieving consistent and accura
 te hits on your target\, etc.
 This course is designed to ensure you have
  an adequate foundation and understanding of safety\, handling\, and care\
 , along with a new level of confidence in your ability handle and shoot yo
 ur rifle. 
 This class will provide an environment where you can openly 
 ask questions about anything regarding your rifle. Others attending will b
 e novice and beginner shooters with limited experience\, the material cove
 red is designed to be non-threatening and move at a pace that allows you t
 o gain confidence and familiarity in your abilities.
LOCATION:935 1200 W\, Orem\, UT 84057
DTSTART:20260624T170000Z
DTEND:20260625T200000Z
DTSTAMP:20260110T151118Z
ORGANIZER;CN=Nielsen Training and Consulting (NTAC):MAILTO:info@nielsentrai
 ning.com
GEO:40.314283;-111.723497
X-APPLE-STRUCTURED-LOCATION;VALUE=URI;X-ADDRESS=935 1200 W\, Orem\, UT 8405
 7;X-APPLE-RADIUS=72;X-TITLE=Tactical Penguin\, Orem:40.314283;-111.723497
END:VEVENT
END:VCALENDAR