BEGIN:VCALENDAR
VERSION:2.0
PRODID:Events Booking
BEGIN:VEVENT
UID:69ea2e6b08337
SUMMARY:Defensive Handgun: Jun 20\, 2026 | Layton
DESCRIPTION:8 hours — Decision making\, legal and moral considerations\, 
 drawing from the holster with concealment\, body positions\, quick sight a
 cquisition\, firing from retention\, clearing malfunctions\, etc.
 Defens
 ive Handgun is our benchmark course and is highly recommended for individu
 als that have decided to carry a firearm for self-defense. Our professiona
 l staff will teach you modern handgun fighting techniques to effectively w
 in an armed encounter\, including drawing from the holster with concealmen
 t\, quick sight acquisition\, malfunction clearance\, retention fire\, and
  movement. We also discuss the legal and moral considerations of carrying 
 a firearm for self-defense.
LOCATION:1995 Main St\, Layton\, UT 84041
DTSTART:20260620T093000Z
DTEND:20260620T180000Z
DTSTAMP:20260111T172351Z
ORGANIZER;CN=Nielsen Training and Consulting (NTAC):MAILTO:info@nielsentrai
 ning.com
GEO:41.088944;-112.000667
X-APPLE-STRUCTURED-LOCATION;VALUE=URI;X-ADDRESS=1995 Main St\, Layton\, UT 
 84041;X-APPLE-RADIUS=72;X-TITLE=Tactical Penguin\, Layton:41.088944;-112.0
 00667
END:VEVENT
END:VCALENDAR