BEGIN:VCALENDAR
VERSION:2.0
PRODID:Events Booking
BEGIN:VEVENT
UID:69ea2e4a2a291
SUMMARY:Defensive Handgun: Jun 27\, 2026 | Murray
DESCRIPTION:8 hours — Decision making\, legal and moral considerations\, 
 drawing from the holster with concealment\, body positions\, quick sight a
 cquisition\, firing from retention\, clearing malfunctions\, etc.
 Defens
 ive Handgun is our benchmark course and is highly recommended for individu
 als that have decided to carry a firearm for self-defense. Our professiona
 l staff will teach you modern handgun fighting techniques to effectively w
 in an armed encounter\, including drawing from the holster with concealmen
 t\, quick sight acquisition\, malfunction clearance\, retention fire\, and
  movement. We also discuss the legal and moral considerations of carrying 
 a firearm for self-defense.
LOCATION:6651 S State St\, Midvale\, UT 84047
DTSTART:20260627T093000Z
DTEND:20260627T180000Z
DTSTAMP:20260111T180635Z
ORGANIZER;CN=Nielsen Training and Consulting (NTAC):MAILTO:info@nielsentrai
 ning.com
GEO:40.629319;-111.888277
X-APPLE-STRUCTURED-LOCATION;VALUE=URI;X-ADDRESS=6651 S State St\, Midvale\,
  UT 84047;X-APPLE-RADIUS=72;X-TITLE=Tactical Penguin\, Murray:40.629319;-1
 11.888277
END:VEVENT
END:VCALENDAR