BEGIN:VCALENDAR
VERSION:2.0
PRODID:Events Booking
BEGIN:VEVENT
UID:69ea39166c91b
SUMMARY:Defensive Handgun: Jun 3-4\, 2026 | Orem TP
DESCRIPTION:8 hours — Decision making\, legal and moral considerations\, 
 drawing from the holster with concealment\, body positions\, quick sight a
 cquisition\, firing from retention\, clearing malfunctions\, etc.
 Defens
 ive Handgun is our benchmark course and is highly recommended for individu
 als that have decided to carry a firearm for self-defense. Our professiona
 l staff will teach you modern handgun fighting techniques to effectively w
 in an armed encounter\, including drawing from the holster with concealmen
 t\, quick sight acquisition\, malfunction clearance\, retention fire\, and
  movement. We also discuss the legal and moral considerations of carrying 
 a firearm for self-defense.
LOCATION:935 1200 W\, Orem\, UT 84057
DTSTART:20260603T170000Z
DTEND:20260604T210000Z
DTSTAMP:20260110T144800Z
ORGANIZER;CN=Nielsen Training and Consulting (NTAC):MAILTO:info@nielsentrai
 ning.com
GEO:40.314283;-111.723497
X-APPLE-STRUCTURED-LOCATION;VALUE=URI;X-ADDRESS=935 1200 W\, Orem\, UT 8405
 7;X-APPLE-RADIUS=72;X-TITLE=Tactical Penguin\, Orem:40.314283;-111.723497
END:VEVENT
END:VCALENDAR