BEGIN:VCALENDAR
VERSION:2.0
PRODID:Events Booking
BEGIN:VEVENT
UID:69ea306d54be6
SUMMARY:Defensive Rifle: May 13-14\, 2026 | Orem TP
DESCRIPTION:8 hours — How to zero your rifle\, fundamental rifle manipula
 tions\, managing recoil\, body positioning\, rifle presentation drills\, t
 arget acquisition\, follow-up shots for target transitions\, etc.
 It is 
 crucial that you understand the “Proper Use of Force” doctrine in your
  decision making process to defend yourself or others. This class will bui
 ld on the skills of Rifle Proficiency\, and our cadre will give you sugges
 tions to improve those skills. This class will have scenarios to expose yo
 u to real life events and help you to make split second decisions. 
LOCATION:935 1200 W\, Orem\, UT 84057
DTSTART:20260513T170000Z
DTEND:20260514T210000Z
DTSTAMP:20260106T184447Z
ORGANIZER;CN=Nielsen Training and Consulting (NTAC):MAILTO:info@nielsentrai
 ning.com
GEO:40.314283;-111.723497
X-APPLE-STRUCTURED-LOCATION;VALUE=URI;X-ADDRESS=935 1200 W\, Orem\, UT 8405
 7;X-APPLE-RADIUS=72;X-TITLE=Tactical Penguin\, Orem:40.314283;-111.723497
END:VEVENT
END:VCALENDAR