BEGIN:VCALENDAR
VERSION:2.0
PRODID:Events Booking
BEGIN:VEVENT
UID:69ea30d4c73c3
SUMMARY:Defensive Rifle: May 23\, 2026 | Tooele
DESCRIPTION:8 hours — How to zero your rifle\, fundamental rifle manipula
 tions\, managing recoil\, body positioning\, rifle presentation drills\, t
 arget acquisition\, follow-up shots for target transitions\, etc.
 It is 
 crucial that you understand the “Proper Use of Force” doctrine in your
  decision making process to defend yourself or others. This class will bui
 ld on the skills of Rifle Proficiency\, and our cadre will give you sugges
 tions to improve those skills. This class will have scenarios to expose yo
 u to real life events and help you to make split second decisions. 
LOCATION:952 N Main St\, Tooele\, UT 84074
DTSTART:20260523T093000Z
DTEND:20260523T180000Z
DTSTAMP:20260107T125949Z
ORGANIZER;CN=Nielsen Training and Consulting (NTAC):MAILTO:info@nielsentrai
 ning.com
GEO:40.310366;-111.723997
X-APPLE-STRUCTURED-LOCATION;VALUE=URI;X-ADDRESS=952 N Main St\, Tooele\, UT
  84074;X-APPLE-RADIUS=72;X-TITLE=Tactical Penguin\, Tooele:40.310366;-111.
 723997
END:VEVENT
END:VCALENDAR