BEGIN:VCALENDAR
VERSION:2.0
PRODID:Events Booking
BEGIN:VEVENT
UID:69ea386cf119c
SUMMARY:Focus on Fundamentals (Private Class): May 1\, 2026 | Provo
DESCRIPTION:2 hours — Practice the basics to improve accuracy\, drawing f
 rom a holster\, shooting quickly and accurately\, reloads and clearing sto
 ppages.  
 This course covers the fundamentals of safe firearm handling
 \; how proper grip\, stance\, sight alignment\, and trigger press can impr
 ove accuracy\; reloads\; drawing from a holster and clearing stoppages. 
  
LOCATION:1450 E Rifle Range Rd\, Provo\, UT 84604
DTSTART:20260501T110000Z
DTEND:20260501T130000Z
DTSTAMP:20260405T024626Z
ORGANIZER;CN=Nielsen Training and Consulting (NTAC):MAILTO:info@nielsentrai
 ning.com
GEO:40.326138;-111.637382
X-APPLE-STRUCTURED-LOCATION;VALUE=URI;X-ADDRESS=1450 E Rifle Range Rd\, Pro
 vo\, UT 84604;X-APPLE-RADIUS=72;X-TITLE=Provo Shooting Sports Park:40.3261
 38;-111.637382
END:VEVENT
END:VCALENDAR