BEGIN:VCALENDAR
VERSION:2.0
PRODID:Events Booking
BEGIN:VEVENT
UID:69ea3dd6a2341
SUMMARY:Focus on Fundamentals (Skills Maintenance): Apr 30\, 2026 | Murray
DESCRIPTION:2 hours — Practice drawing from concealment\, shooting quickl
 y and accurately\, and reloading with a concealment garment.
 This is the
  perfect course to do in order to keep your skills up after you complete t
 he Handgun Proficiency or Defensive Handgun course and keep your skills up
  that you learned in those courses. We focus on the fundamentals of grip\,
  stance\, draw from the holster\, sight alignment and trigger squeeze. We 
 hope to have you in this course soon.
LOCATION:6651 S State St\, Midvale\, UT 84047
DTSTART:20260430T170000Z
DTEND:20260430T190000Z
DTSTAMP:20260106T034418Z
ORGANIZER;CN=Nielsen Training and Consulting (NTAC):MAILTO:info@nielsentrai
 ning.com
GEO:40.629319;-111.888277
X-APPLE-STRUCTURED-LOCATION;VALUE=URI;X-ADDRESS=6651 S State St\, Midvale\,
  UT 84047;X-APPLE-RADIUS=72;X-TITLE=Tactical Penguin\, Murray:40.629319;-1
 11.888277
END:VEVENT
END:VCALENDAR