BEGIN:VCALENDAR
VERSION:2.0
PRODID:Events Booking
BEGIN:VEVENT
UID:69ea4280b224b
SUMMARY:Focus on Fundamentals (Skills Maintenance): Jul 15\, 2026 | Orem TP
DESCRIPTION:2 hours — Practice drawing from concealment\, shooting quickl
 y and accurately\, and reloading with a concealment garment.
 This is the
  perfect course to do in order to keep your skills up after you complete t
 he Handgun Proficiency or Defensive Handgun course and keep your skills up
  that you learned in those courses. We focus on the fundamentals of grip\,
  stance\, draw from the holster\, sight alignment and trigger squeeze. We 
 hope to have you in this course soon.
LOCATION:935 1200 W\, Orem\, UT 84057
DTSTART:20260715T180000Z
DTEND:20260715T203000Z
DTSTAMP:20260411T203120Z
ORGANIZER;CN=Nielsen Training and Consulting (NTAC):MAILTO:info@nielsentrai
 ning.com
GEO:40.314283;-111.723497
X-APPLE-STRUCTURED-LOCATION;VALUE=URI;X-ADDRESS=935 1200 W\, Orem\, UT 8405
 7;X-APPLE-RADIUS=72;X-TITLE=Tactical Penguin\, Orem:40.314283;-111.723497
END:VEVENT
END:VCALENDAR