BEGIN:VCALENDAR
VERSION:2.0
PRODID:Events Booking
BEGIN:VEVENT
UID:69ea43d618304
SUMMARY:Focus on Fundamentals (Skills Maintenance): Jul 2\, 2026 | Murray
DESCRIPTION:2.5 hours — Practice drawing from concealment\, shooting quic
 kly and accurately\, and reloading with a concealment garment.
 This is t
 he perfect course to do in order to keep your skills up after you complete
  the Handgun Proficiency or Defensive Handgun course and keep your skills 
 up that you learned in those courses. We focus on the fundamentals of grip
 \, stance\, draw from the holster\, sight alignment and trigger squeeze. W
 e hope to have you in this course soon.
LOCATION:6651 S State St\, Midvale\, UT 84047
DTSTART:20260702T180000Z
DTEND:20260702T203000Z
DTSTAMP:20260111T181548Z
ORGANIZER;CN=Nielsen Training and Consulting (NTAC):MAILTO:info@nielsentrai
 ning.com
GEO:40.629319;-111.888277
X-APPLE-STRUCTURED-LOCATION;VALUE=URI;X-ADDRESS=6651 S State St\, Midvale\,
  UT 84047;X-APPLE-RADIUS=72;X-TITLE=Tactical Penguin\, Murray:40.629319;-1
 11.888277
END:VEVENT
END:VCALENDAR