BEGIN:VCALENDAR
VERSION:2.0
PRODID:Events Booking
BEGIN:VEVENT
UID:69ea57584b0bb
SUMMARY:Focus on Fundamentals (Skills Maintenance): Jul 22\, 2026 | Tooele
DESCRIPTION:2.5 hours — Practice drawing from concealment\, shooting quic
 kly and accurately\, and reloading with a concealment garment.
 This is t
 he perfect course to do in order to keep your skills up after you complete
  the Handgun Proficiency or Defensive Handgun course and keep your skills 
 up that you learned in those courses. We focus on the fundamentals of grip
 \, stance\, draw from the holster\, sight alignment and trigger squeeze. W
 e hope to have you in this course soon.
LOCATION:952 N Main St\, Tooele\, UT 84074
DTSTART:20260722T170000Z
DTEND:20260722T190000Z
DTSTAMP:20260413T145339Z
ORGANIZER;CN=Nielsen Training and Consulting (NTAC):MAILTO:info@nielsentrai
 ning.com
GEO:40.310366;-111.723997
X-APPLE-STRUCTURED-LOCATION;VALUE=URI;X-ADDRESS=952 N Main St\, Tooele\, UT
  84074;X-APPLE-RADIUS=72;X-TITLE=Tactical Penguin\, Tooele:40.310366;-111.
 723997
END:VEVENT
END:VCALENDAR