BEGIN:VCALENDAR
VERSION:2.0
PRODID:Events Booking
BEGIN:VEVENT
UID:69ea580feb479
SUMMARY:Handgun Proficiency: Jun 6\, 2026 | Layton
DESCRIPTION:6 hours — An introduction to drawing from the holster\, drawi
 ng from concealment\, shooting while moving\, and more.
 This course intr
 oduces students to important intermediate-level skills such as drawing fro
 m the holster and shooting while moving. This class enhances and builds up
 on fundamental skills taught in Beginner Handgun and adds new variations t
 o help you gain more familiarity and confidence with your firearm. After r
 eviewing safety and marksmanship fundamentals\, this class will introduce 
 more complex drills and scenarios\, including drawing from the holster and
  concealment\, shooting while moving\, and an introduction to shooting fro
 m behind barricades.
 
 Students will become more proficient\, smooth\, 
 and confident with their marksmanship and gun handling skills\, which will
  take them to the intermediate level and prepare them for Defensive Handgu
 n and the advanced courses beyond.
LOCATION:1995 Main St\, Layton\, UT 84041
DTSTART:20260606T093000Z
DTEND:20260606T160000Z
DTSTAMP:20260111T171543Z
ORGANIZER;CN=Nielsen Training and Consulting (NTAC):MAILTO:info@nielsentrai
 ning.com
GEO:41.088944;-112.000667
X-APPLE-STRUCTURED-LOCATION;VALUE=URI;X-ADDRESS=1995 Main St\, Layton\, UT 
 84041;X-APPLE-RADIUS=72;X-TITLE=Tactical Penguin\, Layton:41.088944;-112.0
 00667
END:VEVENT
END:VCALENDAR