BEGIN:VCALENDAR
VERSION:2.0
PRODID:Events Booking
BEGIN:VEVENT
UID:69ea41d7e87bd
SUMMARY:Intro to Handgun: Jul 1\, 2026 | Layton
DESCRIPTION:3 hours — For those who have never used a handgun before or h
 ave done it a few times but never had clear\, organized instruction on how
  to do it safely and correctly.
 If you have never used a handgun before 
 or have done it a few times but never had clear\, organized instruction on
  how to do it safely and correctly\, this is the class for you! This is th
 e best place to start if you have never shot before or have only shot with
  your friends but want to get a fundamental understanding of the shooting 
 sports. 
LOCATION:1995 Main St\, Layton\, UT 84041
DTSTART:20260701T170000Z
DTEND:20260701T200000Z
DTSTAMP:20260111T173624Z
ORGANIZER;CN=Nielsen Training and Consulting (NTAC):MAILTO:info@nielsentrai
 ning.com
GEO:41.088944;-112.000667
X-APPLE-STRUCTURED-LOCATION;VALUE=URI;X-ADDRESS=1995 Main St\, Layton\, UT 
 84041;X-APPLE-RADIUS=72;X-TITLE=Tactical Penguin\, Layton:41.088944;-112.0
 00667
END:VEVENT
END:VCALENDAR