BEGIN:VCALENDAR
VERSION:2.0
PRODID:Events Booking
BEGIN:VEVENT
UID:69ea39450855b
SUMMARY:Intro to Handgun: Jun 17\, 2026 | Orem TP
DESCRIPTION:3 hours — For those who have never used a handgun before or h
 ave done it a few times but never had clear\, organized instruction on how
  to do it safely and correctly.
 If you have never used a handgun before 
 or have done it a few times but never had clear\, organized instruction on
  how to do it safely and correctly\, this is the class for you! This is th
 e best place to start if you have never shot before or have only shot with
  your friends but want to get a fundamental understanding of the shooting 
 sports. 
LOCATION:935 1200 W\, Orem\, UT 84057
DTSTART:20260617T170000Z
DTEND:20260617T200000Z
DTSTAMP:20260110T150546Z
ORGANIZER;CN=Nielsen Training and Consulting (NTAC):MAILTO:info@nielsentrai
 ning.com
GEO:40.314283;-111.723497
X-APPLE-STRUCTURED-LOCATION;VALUE=URI;X-ADDRESS=935 1200 W\, Orem\, UT 8405
 7;X-APPLE-RADIUS=72;X-TITLE=Tactical Penguin\, Orem:40.314283;-111.723497
END:VEVENT
END:VCALENDAR