BEGIN:VCALENDAR
VERSION:2.0
PRODID:Events Booking
BEGIN:VEVENT
UID:69ea575912e3d
SUMMARY:Low Light Fundamentals (Skills Maintenance): Jul 8\, 2026 | Tooele 
DESCRIPTION:2.5 hours — Practice using a handheld or weapons mounted ligh
 t to clearly identify your target and shoot in low light situations.
 Fig
 hting in a diminished light capacity is difficult. In the modern world\, t
 here are low light areas even in broad daylight. These shadows and dark sp
 ots are a prime location for an adversary to attack you. Proper identifica
 tion is an integral part of any armed encounter. The use of a light will a
 ssist with that proper identification in periods of darkness.
LOCATION:952 N Main St\, Tooele\, UT 84074
DTSTART:20260708T180000Z
DTEND:20260708T213000Z
DTSTAMP:20260413T144256Z
ORGANIZER;CN=Nielsen Training and Consulting (NTAC):MAILTO:info@nielsentrai
 ning.com
GEO:40.310366;-111.723997
X-APPLE-STRUCTURED-LOCATION;VALUE=URI;X-ADDRESS=952 N Main St\, Tooele\, UT
  84074;X-APPLE-RADIUS=72;X-TITLE=Tactical Penguin\, Tooele:40.310366;-111.
 723997
END:VEVENT
END:VCALENDAR