BEGIN:VCALENDAR
VERSION:2.0
PRODID:Events Booking
BEGIN:VEVENT
UID:69ea43af55e52
SUMMARY:Low Light Fundamentals (Skills Maintenance): Jun 18\, 2026 | Murray
DESCRIPTION:2.5 hours — Practice using a handheld or weapons mounted ligh
 t to clearly identify your target and shoot in low light situations.
 Fig
 hting in a diminished light capacity is difficult. In the modern world\, t
 here are low light areas even in broad daylight. These shadows and dark sp
 ots are a prime location for an adversary to attack you. Proper identifica
 tion is an integral part of any armed encounter. The use of a light will a
 ssist with that proper identification in periods of darkness.
LOCATION:6651 S State St\, Midvale\, UT 84047
DTSTART:20260618T180000Z
DTEND:20260618T203000Z
DTSTAMP:20260111T180342Z
ORGANIZER;CN=Nielsen Training and Consulting (NTAC):MAILTO:info@nielsentrai
 ning.com
GEO:40.629319;-111.888277
X-APPLE-STRUCTURED-LOCATION;VALUE=URI;X-ADDRESS=6651 S State St\, Midvale\,
  UT 84047;X-APPLE-RADIUS=72;X-TITLE=Tactical Penguin\, Murray:40.629319;-1
 11.888277
END:VEVENT
END:VCALENDAR