BEGIN:VCALENDAR
VERSION:2.0
PRODID:Events Booking
BEGIN:VEVENT
UID:69ea3d94c20c6
SUMMARY:Low Light Fundamentals (Skills Maintenance): May 20\, 2026 | Murray
DESCRIPTION:2 hours — Practice using a handheld or weapons mounted light 
 to clearly identify your target and shoot in low light situations.
 Fight
 ing in a diminished light capacity is difficult. In the modern world\, the
 re are low light areas even in broad daylight. These shadows and dark spot
 s are a prime location for an adversary to attack you. Proper identificati
 on is an integral part of any armed encounter. The use of a light will ass
 ist with that proper identification in periods of darkness.
LOCATION:6651 S State St\, Midvale\, UT 84047
DTSTART:20260520T190000Z
DTEND:20260520T210000Z
DTSTAMP:20260109T162200Z
ORGANIZER;CN=Nielsen Training and Consulting (NTAC):MAILTO:info@nielsentrai
 ning.com
GEO:40.629319;-111.888277
X-APPLE-STRUCTURED-LOCATION;VALUE=URI;X-ADDRESS=6651 S State St\, Midvale\,
  UT 84047;X-APPLE-RADIUS=72;X-TITLE=Tactical Penguin\, Murray:40.629319;-1
 11.888277
END:VEVENT
END:VCALENDAR