BEGIN:VCALENDAR
VERSION:2.0
PRODID:Events Booking
BEGIN:VEVENT
UID:69ea399dc13bb
SUMMARY:Low Light Fundamentals (Skills Maintenance): May 27\, 2026 | Orem T
 P
DESCRIPTION:2.5 hours — Practice using a handheld or weapons mounted ligh
 t to clearly identify your target and shoot in low light situations.
 Fig
 hting in a diminished light capacity is difficult. In the modern world\, t
 here are low light areas even in broad daylight. These shadows and dark sp
 ots are a prime location for an adversary to attack you. Proper identifica
 tion is an integral part of any armed encounter. The use of a light will a
 ssist with that proper identification in periods of darkness.
LOCATION:935 1200 W\, Orem\, UT 84057
DTSTART:20260527T180000Z
DTEND:20260527T203000Z
DTSTAMP:20260106T191001Z
ORGANIZER;CN=Nielsen Training and Consulting (NTAC):MAILTO:info@nielsentrai
 ning.com
GEO:40.314283;-111.723497
X-APPLE-STRUCTURED-LOCATION;VALUE=URI;X-ADDRESS=935 1200 W\, Orem\, UT 8405
 7;X-APPLE-RADIUS=72;X-TITLE=Tactical Penguin\, Orem:40.314283;-111.723497
END:VEVENT
END:VCALENDAR