BEGIN:VCALENDAR
VERSION:2.0
PRODID:Events Booking
BEGIN:VEVENT
UID:69ea573a42e72
SUMMARY:Low Light Fundamentals (Skills Maintenance): Oct 1\, 2026 | Layton
DESCRIPTION:2.5 hours — Practice using a handheld or weapons mounted ligh
 t to clearly identify your target and shoot in low light situations.
 Fig
 hting in a diminished light capacity is difficult. In the modern world\, t
 here are low light areas even in broad daylight. These shadows and dark sp
 ots are a prime location for an adversary to attack you. Proper identifica
 tion is an integral part of any armed encounter. The use of a light will a
 ssist with that proper identification in periods of darkness.
LOCATION:1995 Main St\, Layton\, UT 84041
DTSTART:20261001T180000Z
DTEND:20260610T203000Z
DTSTAMP:20260418T161904Z
ORGANIZER;CN=Nielsen Training and Consulting (NTAC):MAILTO:info@nielsentrai
 ning.com
GEO:41.088944;-112.000667
X-APPLE-STRUCTURED-LOCATION;VALUE=URI;X-ADDRESS=1995 Main St\, Layton\, UT 
 84041;X-APPLE-RADIUS=72;X-TITLE=Tactical Penguin\, Layton:41.088944;-112.0
 00667
END:VEVENT
END:VCALENDAR