BEGIN:VCALENDAR
VERSION:2.0
PRODID:Events Booking
BEGIN:VEVENT
UID:69ea386bbee6a
SUMMARY:Move and Shoot (Skills Maintenance): Apr 24\, 2026 | Tooele
DESCRIPTION:2.5 hours — Get off the X! Learn to effectively shoot and hit
  your target while you are moving.
 Shooting and moving is a key part of 
 training and being prepared. If it is not practiced on a regular basis tho
 se skills will be lost. We developed this course to assist professionals a
 nd CCW holders to maintain their skills. Working entirely from concealment
 \, movement will be introduced into your training while still working on t
 he essential deployment and accuracy skills necessary to be remain profici
 ent with your everyday carry gear.
LOCATION:952 N Main St\, Tooele\, UT 84074
DTSTART:20260424T180000Z
DTEND:20260424T203000Z
DTSTAMP:20260105T175137Z
ORGANIZER;CN=Nielsen Training and Consulting (NTAC):MAILTO:info@nielsentrai
 ning.com
GEO:40.310366;-111.723997
X-APPLE-STRUCTURED-LOCATION;VALUE=URI;X-ADDRESS=952 N Main St\, Tooele\, UT
  84074;X-APPLE-RADIUS=72;X-TITLE=Tactical Penguin\, Tooele:40.310366;-111.
 723997
END:VEVENT
END:VCALENDAR