BEGIN:VCALENDAR
VERSION:2.0
PRODID:Events Booking
BEGIN:VEVENT
UID:69ea547b4ad45
SUMMARY:Move and Shoot (Skills Maintenance): Aug 13\, 2026 | Murray
DESCRIPTION:2.5 hours — Get off the X! Learn to effectively shoot and hit
  your target while you are moving.
 Shooting and moving is a key part of 
 training and being prepared. If it is not practiced on a regular basis tho
 se skills will be lost. We developed this course to assist professionals a
 nd CCW holders to maintain their skills. Working entirely from concealment
 \, movement will be introduced into your training while still working on t
 he essential deployment and accuracy skills necessary to be remain profici
 ent with your everyday carry gear.
LOCATION:6651 S State St\, Midvale\, UT 84047
DTSTART:20260813T180000Z
DTEND:20260813T203000Z
DTSTAMP:20260413T212556Z
ORGANIZER;CN=Nielsen Training and Consulting (NTAC):MAILTO:info@nielsentrai
 ning.com
GEO:40.629319;-111.888277
X-APPLE-STRUCTURED-LOCATION;VALUE=URI;X-ADDRESS=6651 S State St\, Midvale\,
  UT 84047;X-APPLE-RADIUS=72;X-TITLE=Tactical Penguin\, Murray:40.629319;-1
 11.888277
END:VEVENT
END:VCALENDAR