BEGIN:VCALENDAR
VERSION:2.0
PRODID:Events Booking
BEGIN:VEVENT
UID:69ea3f1b3a33c
SUMMARY:Move and Shoot (Skills Maintenance): Jul 29\, 2026 | Orem TP
DESCRIPTION:2.5 hours — Get off the X! Learn to effectively shoot and hit
  your target while you are moving.
 Shooting and moving is a key part of 
 training and being prepared. If it is not practiced on a regular basis tho
 se skills will be lost. We developed this course to assist professionals a
 nd CCW holders to maintain their skills. Working entirely from concealment
 \, movement will be introduced into your training while still working on t
 he essential deployment and accuracy skills necessary to be remain profici
 ent with your everyday carry gear.
LOCATION:935 1200 W\, Orem\, UT 84057
DTSTART:20260729T180000Z
DTEND:20260729T203000Z
DTSTAMP:20260411T215953Z
ORGANIZER;CN=Nielsen Training and Consulting (NTAC):MAILTO:info@nielsentrai
 ning.com
GEO:40.314283;-111.723497
X-APPLE-STRUCTURED-LOCATION;VALUE=URI;X-ADDRESS=935 1200 W\, Orem\, UT 8405
 7;X-APPLE-RADIUS=72;X-TITLE=Tactical Penguin\, Orem:40.314283;-111.723497
END:VEVENT
END:VCALENDAR