BEGIN:VCALENDAR
VERSION:2.0
PRODID:Events Booking
BEGIN:VEVENT
UID:69ea3fb69dded
SUMMARY:Move and Shoot (Skills Maintenance): Jun 18\, 2026 | Murray
DESCRIPTION:2 hours — Get off the X! Learn to effectively shoot and hit y
 our target while you are moving.
 Shooting and moving is a key part of tr
 aining and being prepared. If it is not practiced on a regular basis those
  skills will be lost. We developed this course to assist professionals and
  CCW holders to maintain their skills. Working entirely from concealment\,
  movement will be introduced into your training while still working on the
  essential deployment and accuracy skills necessary to be remain proficien
 t with your everyday carry gear.
LOCATION:6651 S State St\, Midvale\, UT 84047
DTSTART:20260618T170000Z
DTEND:20260618T190000Z
DTSTAMP:20260111T175935Z
ORGANIZER;CN=Nielsen Training and Consulting (NTAC):MAILTO:info@nielsentrai
 ning.com
GEO:40.629319;-111.888277
X-APPLE-STRUCTURED-LOCATION;VALUE=URI;X-ADDRESS=6651 S State St\, Midvale\,
  UT 84047;X-APPLE-RADIUS=72;X-TITLE=Tactical Penguin\, Murray:40.629319;-1
 11.888277
END:VEVENT
END:VCALENDAR