BEGIN:VCALENDAR
VERSION:2.0
PRODID:Events Booking
BEGIN:VEVENT
UID:69ea38a5119ef
SUMMARY:Natural Point of Aim and Retention Fire (Skills Maintenance): Apr 2
 3\, 2026 | Orem RG
DESCRIPTION:2.5 hours — How to safely and effectively fire your weapon fr
 om retention when you don't have time or space to utilize the sights.
 Th
 is skill builder class will help you to focus on developing and improving 
 your Natural Point of Aim (NPA and retention fire skills by utilizing dril
 ls that specifically require the use of multiple shooting positions. Natur
 al point of aim and retention fire are two defensive handgun techniques th
 at are often overlooked or even difficult to practice in traditional range
  settings.
LOCATION:1066 South State Street\, Orem UT 84097
DTSTART:20260423T180000Z
DTEND:20260423T203000Z
DTSTAMP:20260317T032300Z
ORGANIZER;CN=Nielsen Training and Consulting (NTAC):MAILTO:info@nielsentrai
 ning.com
GEO:40.277787;-111.685559
X-APPLE-STRUCTURED-LOCATION;VALUE=URI;X-ADDRESS=1066 South State Street\, O
 rem UT 84097;X-APPLE-RADIUS=72;X-TITLE=Ready Gunner\, Orem:40.277787;-111.
 685559
END:VEVENT
END:VCALENDAR