BEGIN:VCALENDAR
VERSION:2.0
PRODID:Events Booking
BEGIN:VEVENT
UID:69ec9528578d7
SUMMARY:Natural Point of Aim and Retention Fire (Skills Maintenance): Apr 2
 9\, 2026 | Layton
DESCRIPTION:2 hours — How to safely and effectively fire your weapon from
  retention when you don't have time or space to utilize the sights.
 This
  skill builder class will help you to focus on developing and improving yo
 ur Natural Point of Aim (NPA and retention fire skills by utilizing drills
  that specifically require the use of multiple shooting positions. Natural
  point of aim and retention fire are two defensive handgun techniques that
  are often overlooked or even difficult to practice in traditional range s
 ettings.
LOCATION:1995 Main St\, Layton\, UT 84041
DTSTART:20260429T190000Z
DTEND:20260429T210000Z
DTSTAMP:20260106T031354Z
ORGANIZER;CN=Nielsen Training and Consulting (NTAC):MAILTO:info@nielsentrai
 ning.com
GEO:41.088944;-112.000667
X-APPLE-STRUCTURED-LOCATION;VALUE=URI;X-ADDRESS=1995 Main St\, Layton\, UT 
 84041;X-APPLE-RADIUS=72;X-TITLE=Tactical Penguin\, Layton:41.088944;-112.0
 00667
END:VEVENT
END:VCALENDAR