BEGIN:VCALENDAR
VERSION:2.0
PRODID:Events Booking
BEGIN:VEVENT
UID:69ea45de1cc24
SUMMARY:Natural Point of Aim and Retention Fire (Skills Maintenance): Aug 2
 0\, 2026 | Orem TP
DESCRIPTION:2.5 hours — How to safely and effectively fire your weapon fr
 om retention when you don't have time or space to utilize the sights.
 Th
 is skill builder class will help you to focus on developing and improving 
 your Natural Point of Aim (NPA and retention fire skills by utilizing dril
 ls that specifically require the use of multiple shooting positions. Natur
 al point of aim and retention fire are two defensive handgun techniques th
 at are often overlooked or even difficult to practice in traditional range
  settings.
LOCATION:935 1200 W\, Orem\, UT 84057
DTSTART:20260820T180000Z
DTEND:20260820T203000Z
DTSTAMP:20260417T182728Z
ORGANIZER;CN=Nielsen Training and Consulting (NTAC):MAILTO:info@nielsentrai
 ning.com
GEO:40.314283;-111.723497
X-APPLE-STRUCTURED-LOCATION;VALUE=URI;X-ADDRESS=935 1200 W\, Orem\, UT 8405
 7;X-APPLE-RADIUS=72;X-TITLE=Tactical Penguin\, Orem:40.314283;-111.723497
END:VEVENT
END:VCALENDAR