BEGIN:VCALENDAR
VERSION:2.0
PRODID:Events Booking
BEGIN:VEVENT
UID:69ea38582d71e
SUMMARY:Private Training Event: May 1\, 2026 | Provo
DESCRIPTION:This is a private training event by Nielsen Training and Consul
 ting (NTAC).
 To schedule your own private training event\, call (385) 40
 1-2878‬ today.
LOCATION:1450 E Rifle Range Rd\, Provo\, UT 84604
DTSTART:20260501T110000Z
DTEND:20260501T130000Z
DTSTAMP:20260415T173302Z
ORGANIZER;CN=Nielsen Training and Consulting (NTAC):MAILTO:info@nielsentrai
 ning.com
GEO:40.326138;-111.637382
X-APPLE-STRUCTURED-LOCATION;VALUE=URI;X-ADDRESS=1450 E Rifle Range Rd\, Pro
 vo\, UT 84604;X-APPLE-RADIUS=72;X-TITLE=Provo Shooting Sports Park:40.3261
 38;-111.637382
END:VEVENT
END:VCALENDAR