BEGIN:VCALENDAR
VERSION:2.0
PRODID:Events Booking
BEGIN:VEVENT
UID:69ea3eab6e250
SUMMARY:Rifle Proficiency: Aug 8\, 2926 | Layton
DESCRIPTION:6 hours —This class builds from Beginner Rifle and adds sever
 al different shooting positions to improve and expand on the fundamentals 
 that you learned in Beginner Rifle.
 Our Rifle Proficiency course will he
 lp you further build and improve the skills necessary to successfully prep
 are you for Defensive Rifle. Building on the knowledge you have previously
  acquired in Beginner Rifle\, you will learn and practice basic movements\
 , additional shooting positions and further understand the concepts of usi
 ng a rifle in a defensive manner.
LOCATION:1995 Main St\, Layton\, UT 84041
DTSTART:20260808T093000Z
DTEND:20260808T160000Z
DTSTAMP:20260418T155332Z
ORGANIZER;CN=Nielsen Training and Consulting (NTAC):MAILTO:info@nielsentrai
 ning.com
GEO:41.088944;-112.000667
X-APPLE-STRUCTURED-LOCATION;VALUE=URI;X-ADDRESS=1995 Main St\, Layton\, UT 
 84041;X-APPLE-RADIUS=72;X-TITLE=Tactical Penguin\, Layton:41.088944;-112.0
 00667
END:VEVENT
END:VCALENDAR