BEGIN:VCALENDAR
VERSION:2.0
PRODID:Events Booking
BEGIN:VEVENT
UID:69ea582030bcf
SUMMARY:Rifle Proficiency: May 9\, 2026 | Tooele
DESCRIPTION:6 hours —This class builds from Beginner Rifle and adds sever
 al different shooting positions to improve and expand on the fundamentals 
 that you learned in Beginner Rifle.
 Our Rifle Proficiency course will he
 lp you further build and improve the skills necessary to successfully prep
 are you for Defensive Rifle. Building on the knowledge you have previously
  acquired in Beginner Rifle\, you will learn and practice basic movements\
 , additional shooting positions and further understand the concepts of usi
 ng a rifle in a defensive manner.
LOCATION:952 N Main St\, Tooele\, UT 84074
DTSTART:20260509T093000Z
DTEND:20260509T160000Z
DTSTAMP:20260107T125308Z
ORGANIZER;CN=Nielsen Training and Consulting (NTAC):MAILTO:info@nielsentrai
 ning.com
GEO:40.310366;-111.723997
X-APPLE-STRUCTURED-LOCATION;VALUE=URI;X-ADDRESS=952 N Main St\, Tooele\, UT
  84074;X-APPLE-RADIUS=72;X-TITLE=Tactical Penguin\, Tooele:40.310366;-111.
 723997
END:VEVENT
END:VCALENDAR