BEGIN:VCALENDAR
VERSION:2.0
PRODID:Events Booking
BEGIN:VEVENT
UID:69ea39c723471
SUMMARY:Tactical Emergency Casualty Care (TECC): Jun 27\, 2026  | Orem
DESCRIPTION:8 hours — Gain the skills and confidence to provide life-savi
 ng care in high-stress and unpredictable situations\, bridging the gap bet
 ween injury and professional medical assistance.
 This course is designed
  for law enforcement\, EMS providers\, and responsible civilians seeking t
 o enhance their emergency medical skills. When seconds count\, having the 
 right skills can make all the difference. Learn how to provide life-saving
  care in high-stress and unpredictable situations\, bridging the gap betwe
 en injury and professional medical assistance.
 
 Hemorrhage control\, i
 ncluding advanced use of tourniquets and wound packing
 Airway management
  and treating chest injuries
 Strategies for triage and casualty movement
  in hostile or austere environments
 Responding effectively under stress 
 while ensuring personal safety
 
LOCATION:768 N 1200 W\, Orem\, UT 84057
DTSTART:20260627T090000Z
DTEND:20260627T170000Z
DTSTAMP:20260117T133237Z
ORGANIZER;CN=Nielsen Training and Consulting (NTAC):MAILTO:info@nielsentrai
 ning.com
GEO:40.310358;-111.723982
X-APPLE-STRUCTURED-LOCATION;VALUE=URI;X-ADDRESS=768 N 1200 W\, Orem\, UT 84
 057;X-APPLE-RADIUS=72;X-TITLE=Next Shot Precision\, Orem:40.310358;-111.72
 3982
END:VEVENT
END:VCALENDAR