BEGIN:VCALENDAR
VERSION:2.0
PRODID:Events Booking
BEGIN:VEVENT
UID:69ea428b09e2d
SUMMARY:Transitions: Holsters\, Slings\, and Support Side (Skills Maintenan
 ce): Aug 1\, 2026 | Murray
DESCRIPTION:2.5 hours — How to quickly and safely transition from rifle t
 o handgun and back\, how to shoot from either strong side or support side\
 , and how to choose which one to utilize in various different situations.
 
 Understanding when\, why and how to transition from one firearm to anoth
 er is a skill that needs to be practiced and maintained. We help you to ma
 intain the skills and add to your knowledge in this course. Transitions ca
 n minimize your exposure to threats or give you an advantage in a fight. W
 e will help guide you in your training process to maintain those skills.
LOCATION:6651 S State St\, Midvale\, UT 84047
DTSTART:20260801T093000Z
DTEND:20260801T120000Z
DTSTAMP:20260414T143407Z
ORGANIZER;CN=Nielsen Training and Consulting (NTAC):MAILTO:info@nielsentrai
 ning.com
GEO:40.629319;-111.888277
X-APPLE-STRUCTURED-LOCATION;VALUE=URI;X-ADDRESS=6651 S State St\, Midvale\,
  UT 84047;X-APPLE-RADIUS=72;X-TITLE=Tactical Penguin\, Murray:40.629319;-1
 11.888277
END:VEVENT
END:VCALENDAR