BEGIN:VCALENDAR
VERSION:2.0
PRODID:Events Booking
BEGIN:VEVENT
UID:69ea42eb65ebf
SUMMARY:Transitions: Holsters\, Slings\, and Support Side (Skills Maintenan
 ce): Sep 9\, 2026 | Tooele
DESCRIPTION:2.5 hours — How to quickly and safely transition from rifle t
 o handgun and back\, how to shoot from either strong side or support side\
 , and how to choose which one to utilize in various different situations.
 
 Understanding when\, why and how to transition from one firearm to anoth
 er is a skill that needs to be practiced and maintained. We help you to ma
 intain the skills and add to your knowledge in this course. Transitions ca
 n minimize your exposure to threats or give you an advantage in a fight. W
 e will help guide you in your training process to maintain those skills.
LOCATION:952 N Main St\, Tooele\, UT 84074
DTSTART:20260909T180000Z
DTEND:20260909T203000Z
DTSTAMP:20260418T022838Z
ORGANIZER;CN=Nielsen Training and Consulting (NTAC):MAILTO:info@nielsentrai
 ning.com
GEO:40.310366;-111.723997
X-APPLE-STRUCTURED-LOCATION;VALUE=URI;X-ADDRESS=952 N Main St\, Tooele\, UT
  84074;X-APPLE-RADIUS=72;X-TITLE=Tactical Penguin\, Tooele:40.310366;-111.
 723997
END:VEVENT
END:VCALENDAR