BEGIN:VCALENDAR
VERSION:2.0
PRODID:Events Booking
BEGIN:VEVENT
UID:69ea3eb8e8b8d
SUMMARY:Utah CCW Concealed Firearm Permit Class: May 9\, 2026 | Layton
DESCRIPTION:4 hours — Everything that you need to apply for your Utah Con
 cealed Carry Firearm Permit (CFP)
 Your full-service\, one-stop option fo
 r everything that you need to apply for your Utah Concealed Firearm Permit
 . Multiple locations along the Wasatch Front. We even deliver the applicat
 ion to BCI for you! All at a best-value price that is lower than the avera
 ge price you will pay at other places.
LOCATION:1995 Main St\, Layton\, UT 84041
DTSTART:20260509T120000Z
DTEND:20260509T160000Z
DTSTAMP:20260418T225148Z
ORGANIZER;CN=Nielsen Training and Consulting (NTAC):MAILTO:info@nielsentrai
 ning.com
GEO:41.088944;-112.000667
X-APPLE-STRUCTURED-LOCATION;VALUE=URI;X-ADDRESS=1995 Main St\, Layton\, UT 
 84041;X-APPLE-RADIUS=72;X-TITLE=Tactical Penguin\, Layton:41.088944;-112.0
 00667
END:VEVENT
END:VCALENDAR