BEGIN:VCALENDAR
VERSION:2.0
PRODID:Events Booking
BEGIN:VEVENT
UID:69ea5832a341a
SUMMARY:Women's Handgun: May 23\, 2026 | Layton
DESCRIPTION:6 hours — A women-only class\, taught by a female instructor 
 that provides a supportive\, low-stress environment to learn to shoot.  D
 esigned to give beginners the fundamental techniques and knowledge they ne
 ed to be safe and effective shooters\, and establish correct habits that w
 ill set them up for success.  
 Women sometimes just feel more comforta
 ble learning from other women in a supportive\, low stress environment.  
 It's very empowering to take responsibility for your own self-defense\, an
 d to have the tools and skills in place to be your own first responder.  
 Our Women's Handgun course was created to help you get familiar with your 
 own firearm and feel comfortable using it\, understanding the mechanics of
  the handgun\, being accustomed to the way it feels in your hands and how 
 it reacts when you fire it.  This course is designed to ensure you have a
 n adequate foundation and understanding of safe gun handling\, along with 
 a new level of confidence in your ability to handle and shoot your handgun
 .  
LOCATION:1995 Main St\, Layton\, UT 84041
DTSTART:20260523T093000Z
DTEND:20260523T160000Z
DTSTAMP:20260107T165410Z
ORGANIZER;CN=Nielsen Training and Consulting (NTAC):MAILTO:info@nielsentrai
 ning.com
GEO:41.088944;-112.000667
X-APPLE-STRUCTURED-LOCATION;VALUE=URI;X-ADDRESS=1995 Main St\, Layton\, UT 
 84041;X-APPLE-RADIUS=72;X-TITLE=Tactical Penguin\, Layton:41.088944;-112.0
 00667
END:VEVENT
END:VCALENDAR