BEGIN:VCALENDAR
VERSION:2.0
PRODID:Events Booking
BEGIN:VEVENT
UID:69ea39c7323a6
SUMMARY:Women's Handgun: May 5-6\, 2026 | Orem TP
DESCRIPTION:6 hours — A women-only class\, taught by a female instructor 
 that provides a supportive\, low-stress environment to learn to shoot.  D
 esigned to give beginners the fundamental techniques and knowledge they ne
 ed to be safe and effective shooters\, and establish correct habits that w
 ill set them up for success.  
 Women sometimes just feel more comforta
 ble learning from other women in a supportive\, low stress environment.  
 It's very empowering to take responsibility for your own self-defense\, an
 d to have the tools and skills in place to be your own first responder.  
 Our Women's Handgun course was created to help you get familiar with your 
 own firearm and feel comfortable using it\, understanding the mechanics of
  the handgun\, being accustomed to the way it feels in your hands and how 
 it reacts when you fire it.  This course is designed to ensure you have a
 n adequate foundation and understanding of safe gun handling\, along with 
 a new level of confidence in your ability to handle and shoot your handgun
 .  
LOCATION:935 1200 W\, Orem\, UT 84057
DTSTART:20260505T170000Z
DTEND:20260506T200000Z
DTSTAMP:20260106T183923Z
ORGANIZER;CN=Nielsen Training and Consulting (NTAC):MAILTO:info@nielsentrai
 ning.com
GEO:40.314283;-111.723497
X-APPLE-STRUCTURED-LOCATION;VALUE=URI;X-ADDRESS=935 1200 W\, Orem\, UT 8405
 7;X-APPLE-RADIUS=72;X-TITLE=Tactical Penguin\, Orem:40.314283;-111.723497
END:VEVENT
END:VCALENDAR